BEGIN:VCALENDAR
VERSION:2.0
PRODID:-//Wilmington Park Homeowners Association - ECPv6.15.20//NONSGML v1.0//EN
CALSCALE:GREGORIAN
METHOD:PUBLISH
X-WR-CALNAME:Wilmington Park Homeowners Association
X-ORIGINAL-URL:https://wilmingtonpark.org
X-WR-CALDESC:Events for Wilmington Park Homeowners Association
REFRESH-INTERVAL;VALUE=DURATION:PT1H
X-Robots-Tag:noindex
X-PUBLISHED-TTL:PT1H
BEGIN:VTIMEZONE
TZID:America/New_York
BEGIN:DAYLIGHT
TZOFFSETFROM:-0500
TZOFFSETTO:-0400
TZNAME:EDT
DTSTART:20210314T070000
END:DAYLIGHT
BEGIN:STANDARD
TZOFFSETFROM:-0400
TZOFFSETTO:-0500
TZNAME:EST
DTSTART:20211107T060000
END:STANDARD
BEGIN:DAYLIGHT
TZOFFSETFROM:-0500
TZOFFSETTO:-0400
TZNAME:EDT
DTSTART:20220313T070000
END:DAYLIGHT
BEGIN:STANDARD
TZOFFSETFROM:-0400
TZOFFSETTO:-0500
TZNAME:EST
DTSTART:20221106T060000
END:STANDARD
BEGIN:DAYLIGHT
TZOFFSETFROM:-0500
TZOFFSETTO:-0400
TZNAME:EDT
DTSTART:20230312T070000
END:DAYLIGHT
BEGIN:STANDARD
TZOFFSETFROM:-0400
TZOFFSETTO:-0500
TZNAME:EST
DTSTART:20231105T060000
END:STANDARD
END:VTIMEZONE
BEGIN:VEVENT
DTSTART;TZID=America/New_York:20220410T160000
DTEND;TZID=America/New_York:20220410T160000
DTSTAMP:20260420T112543
CREATED:20220315T194142Z
LAST-MODIFIED:20220315T194713Z
UID:1659-1649606400-1649606400@wilmingtonpark.org
SUMMARY:Egg the Island- First Baptist Church of the Islands
DESCRIPTION:First Baptist Church of the Islands presents the annual Egg the Island at the Wilmington Park Playground. All are welcome.
URL:https://wilmingtonpark.org/event/egg-the-island-first-baptist-church-of-the-islands/
LOCATION:Wilmington Park Playground\, 30 S Cromwell Rd\,\, Savannah\, GA\, 31410
ATTACH;FMTTYPE=image/png:https://wilmingtonpark.org/wp-content/uploads/2022/03/Wilmington-Park-2022.png
END:VEVENT
END:VCALENDAR