BEGIN:VCALENDAR
VERSION:2.0
PRODID:-//Wilmington Park Homeowners Association - ECPv6.15.20//NONSGML v1.0//EN
CALSCALE:GREGORIAN
METHOD:PUBLISH
X-ORIGINAL-URL:https://wilmingtonpark.org
X-WR-CALDESC:Events for Wilmington Park Homeowners Association
REFRESH-INTERVAL;VALUE=DURATION:PT1H
X-Robots-Tag:noindex
X-PUBLISHED-TTL:PT1H
BEGIN:VTIMEZONE
TZID:America/New_York
BEGIN:DAYLIGHT
TZOFFSETFROM:-0500
TZOFFSETTO:-0400
TZNAME:EDT
DTSTART:20210314T070000
END:DAYLIGHT
BEGIN:STANDARD
TZOFFSETFROM:-0400
TZOFFSETTO:-0500
TZNAME:EST
DTSTART:20211107T060000
END:STANDARD
BEGIN:DAYLIGHT
TZOFFSETFROM:-0500
TZOFFSETTO:-0400
TZNAME:EDT
DTSTART:20220313T070000
END:DAYLIGHT
BEGIN:STANDARD
TZOFFSETFROM:-0400
TZOFFSETTO:-0500
TZNAME:EST
DTSTART:20221106T060000
END:STANDARD
BEGIN:DAYLIGHT
TZOFFSETFROM:-0500
TZOFFSETTO:-0400
TZNAME:EDT
DTSTART:20230312T070000
END:DAYLIGHT
BEGIN:STANDARD
TZOFFSETFROM:-0400
TZOFFSETTO:-0500
TZNAME:EST
DTSTART:20231105T060000
END:STANDARD
END:VTIMEZONE
BEGIN:VEVENT
DTSTART;TZID=America/New_York:20220702T100000
DTEND;TZID=America/New_York:20220702T120000
DTSTAMP:20260420T005508
CREATED:20220214T202521Z
LAST-MODIFIED:20220630T204727Z
UID:990-1656756000-1656763200@wilmingtonpark.org
SUMMARY:2022 Independence Day Parade
DESCRIPTION:Residents and Pool members: Celebrate the Birth of Our Beautiful nation! This Saturday\, July 2\, starting at 1030am. Deck out bikes\, carts\, and yourself in Red\, White\, and Blue American Attire. Neighbors may line the streets along the route to enjoy the sights. After the 20 minute walk\, enjoy some Burgers and Dogs cooked by our favorite KofC from 1130-130.\n\n\n\nPool members: Grab your spot by the pool and listen to the amazing live music (Tips Accepted). Finally decorate your spot for a chance to win!!\n\n***Absolutely no fireworks or sparklers of any kind are allowed in this event.
URL:https://wilmingtonpark.org/event/independence-day-parade/
LOCATION:Wilmington Park Playground\, 30 S Cromwell Rd\,\, Savannah\, GA\, 31410
ATTACH;FMTTYPE=image/jpeg:https://wilmingtonpark.org/wp-content/uploads/2022/02/July-4.jpg
END:VEVENT
BEGIN:VEVENT
DTSTART;TZID=America/New_York:20220702T113000
DTEND;TZID=America/New_York:20220702T133000
DTSTAMP:20260420T005508
CREATED:20220611T191858Z
LAST-MODIFIED:20220611T191858Z
UID:4537-1656761400-1656768600@wilmingtonpark.org
SUMMARY:Community Cookout for Residents and Pool Members
DESCRIPTION:Residents and Pool members are welcome to join us after the parade for hamburgers and hotdogs compliments of Your Wilmington Park Homes Association. The Knights of Columbus (KofC) will be cooking and we all know how tasty that will be!! (All must sign in to enjoy the food. Look for the sign in table near the start of the food line.) First come First Serve. When we run out\, We run out!
URL:https://wilmingtonpark.org/event/community-cookout-for-residents-and-pool-members/
LOCATION:Wilmington Park Playground\, 30 S Cromwell Rd\,\, Savannah\, GA\, 31410
ATTACH;FMTTYPE=image/jpeg:https://wilmingtonpark.org/wp-content/uploads/2022/02/Summer-cookout-1.jpg
END:VEVENT
BEGIN:VEVENT
DTSTART;TZID=America/New_York:20220702T130000
DTEND;TZID=America/New_York:20220702T160000
DTSTAMP:20260420T005508
CREATED:20220527T134007Z
LAST-MODIFIED:20220527T135001Z
UID:4101-1656766800-1656777600@wilmingtonpark.org
SUMMARY:Music Event at the pool
DESCRIPTION:Cash Tips Accepted
URL:https://wilmingtonpark.org/event/music-event-at-the-pool-2/
LOCATION:Wilmington Park Pool\, 30 S Cromwell Rd\, Savanna\,\, GA\, 31410
ATTACH;FMTTYPE=image/gif:https://wilmingtonpark.org/wp-content/uploads/2022/05/7TapqK6Gc.gif
END:VEVENT
BEGIN:VEVENT
DTSTART;TZID=America/New_York:20220702T180000
DTEND;TZID=America/New_York:20220702T190000
DTSTAMP:20260420T005508
CREATED:20220611T192556Z
LAST-MODIFIED:20220611T192556Z
UID:4539-1656784800-1656788400@wilmingtonpark.org
SUMMARY:Friendly competition at the Pool
DESCRIPTION:Deck your space with everything Americana. Show your love of our country as we enjoy the cool pool. Details to come. Please remember to clean up all decor before leaving.
URL:https://wilmingtonpark.org/event/friendly-competition-at-the-pool/
LOCATION:Wilmington Park Pool\, 30 S Cromwell Rd\, Savanna\,\, GA\, 31410
ATTACH;FMTTYPE=image/jpeg:https://wilmingtonpark.org/wp-content/uploads/2022/06/I-Love-USA.jpeg
END:VEVENT
END:VCALENDAR