BEGIN:VCALENDAR
VERSION:2.0
PRODID:-//Wilmington Park Homeowners Association - ECPv6.15.20//NONSGML v1.0//EN
CALSCALE:GREGORIAN
METHOD:PUBLISH
X-WR-CALNAME:Wilmington Park Homeowners Association
X-ORIGINAL-URL:https://wilmingtonpark.org
X-WR-CALDESC:Events for Wilmington Park Homeowners Association
REFRESH-INTERVAL;VALUE=DURATION:PT1H
X-Robots-Tag:noindex
X-PUBLISHED-TTL:PT1H
BEGIN:VTIMEZONE
TZID:America/New_York
BEGIN:DAYLIGHT
TZOFFSETFROM:-0500
TZOFFSETTO:-0400
TZNAME:EDT
DTSTART:20210314T070000
END:DAYLIGHT
BEGIN:STANDARD
TZOFFSETFROM:-0400
TZOFFSETTO:-0500
TZNAME:EST
DTSTART:20211107T060000
END:STANDARD
BEGIN:DAYLIGHT
TZOFFSETFROM:-0500
TZOFFSETTO:-0400
TZNAME:EDT
DTSTART:20220313T070000
END:DAYLIGHT
BEGIN:STANDARD
TZOFFSETFROM:-0400
TZOFFSETTO:-0500
TZNAME:EST
DTSTART:20221106T060000
END:STANDARD
BEGIN:DAYLIGHT
TZOFFSETFROM:-0500
TZOFFSETTO:-0400
TZNAME:EDT
DTSTART:20230312T070000
END:DAYLIGHT
BEGIN:STANDARD
TZOFFSETFROM:-0400
TZOFFSETTO:-0500
TZNAME:EST
DTSTART:20231105T060000
END:STANDARD
END:VTIMEZONE
BEGIN:VEVENT
DTSTART;TZID=America/New_York:20220906T080000
DTEND;TZID=America/New_York:20220917T170000
DTSTAMP:20260419T200829
CREATED:20220805T141259Z
LAST-MODIFIED:20220831T200332Z
UID:6273-1662451200-1663434000@wilmingtonpark.org
SUMMARY:Courts Under Construction
DESCRIPTION:Our Courts are getting resurfaced. We will be adding pickle ball in place of one of the Tennis Courts. Construction should last 2 weeks. Thank you for your patience as we make our park more amazing. Update: the rain has payed a major roll in start date pushing.
URL:https://wilmingtonpark.org/event/courts-under-construction/
LOCATION:Wilmington Park Courts\, 30 S Cromwell Rd\, Savannah\, GA\, 31410\, United States
ATTACH;FMTTYPE=image/jpeg:https://wilmingtonpark.org/wp-content/uploads/2022/08/Courts-under-Constuction.jpg
END:VEVENT
END:VCALENDAR