BEGIN:VCALENDAR
VERSION:2.0
PRODID:-//Wilmington Park Homeowners Association - ECPv6.15.20//NONSGML v1.0//EN
CALSCALE:GREGORIAN
METHOD:PUBLISH
X-ORIGINAL-URL:https://wilmingtonpark.org
X-WR-CALDESC:Events for Wilmington Park Homeowners Association
REFRESH-INTERVAL;VALUE=DURATION:PT1H
X-Robots-Tag:noindex
X-PUBLISHED-TTL:PT1H
BEGIN:VTIMEZONE
TZID:America/New_York
BEGIN:DAYLIGHT
TZOFFSETFROM:-0500
TZOFFSETTO:-0400
TZNAME:EDT
DTSTART:20210314T070000
END:DAYLIGHT
BEGIN:STANDARD
TZOFFSETFROM:-0400
TZOFFSETTO:-0500
TZNAME:EST
DTSTART:20211107T060000
END:STANDARD
BEGIN:DAYLIGHT
TZOFFSETFROM:-0500
TZOFFSETTO:-0400
TZNAME:EDT
DTSTART:20220313T070000
END:DAYLIGHT
BEGIN:STANDARD
TZOFFSETFROM:-0400
TZOFFSETTO:-0500
TZNAME:EST
DTSTART:20221106T060000
END:STANDARD
BEGIN:DAYLIGHT
TZOFFSETFROM:-0500
TZOFFSETTO:-0400
TZNAME:EDT
DTSTART:20230312T070000
END:DAYLIGHT
BEGIN:STANDARD
TZOFFSETFROM:-0400
TZOFFSETTO:-0500
TZNAME:EST
DTSTART:20231105T060000
END:STANDARD
END:VTIMEZONE
BEGIN:VEVENT
DTSTART;TZID=America/New_York:20221004T190000
DTEND;TZID=America/New_York:20221004T210000
DTSTAMP:20260419T152427
CREATED:20220724T164807Z
LAST-MODIFIED:20220724T164807Z
UID:5854-1664910000-1664917200@wilmingtonpark.org
SUMMARY:HOA Monthly Board meeting 10/4 @ 7pm
DESCRIPTION:This meeting is for board members and management. If you wish to join as a resident- non board member\, please submit a ticket on our website so that we can update you on if we are meeting in person or on Zoom.
URL:https://wilmingtonpark.org/event/hoa-monthly-board-meeting-10-4-7pm/
LOCATION:Wilmington Park
ATTACH;FMTTYPE=image/webp:https://wilmingtonpark.org/wp-content/uploads/2022/05/HOA.webp
END:VEVENT
END:VCALENDAR