BEGIN:VCALENDAR
VERSION:2.0
PRODID:-//Wilmington Park Homeowners Association - ECPv6.15.20//NONSGML v1.0//EN
CALSCALE:GREGORIAN
METHOD:PUBLISH
X-WR-CALNAME:Wilmington Park Homeowners Association
X-ORIGINAL-URL:https://wilmingtonpark.org
X-WR-CALDESC:Events for Wilmington Park Homeowners Association
REFRESH-INTERVAL;VALUE=DURATION:PT1H
X-Robots-Tag:noindex
X-PUBLISHED-TTL:PT1H
BEGIN:VTIMEZONE
TZID:America/New_York
BEGIN:DAYLIGHT
TZOFFSETFROM:-0500
TZOFFSETTO:-0400
TZNAME:EDT
DTSTART:20210314T070000
END:DAYLIGHT
BEGIN:STANDARD
TZOFFSETFROM:-0400
TZOFFSETTO:-0500
TZNAME:EST
DTSTART:20211107T060000
END:STANDARD
BEGIN:DAYLIGHT
TZOFFSETFROM:-0500
TZOFFSETTO:-0400
TZNAME:EDT
DTSTART:20220313T070000
END:DAYLIGHT
BEGIN:STANDARD
TZOFFSETFROM:-0400
TZOFFSETTO:-0500
TZNAME:EST
DTSTART:20221106T060000
END:STANDARD
BEGIN:DAYLIGHT
TZOFFSETFROM:-0500
TZOFFSETTO:-0400
TZNAME:EDT
DTSTART:20230312T070000
END:DAYLIGHT
BEGIN:STANDARD
TZOFFSETFROM:-0400
TZOFFSETTO:-0500
TZNAME:EST
DTSTART:20231105T060000
END:STANDARD
END:VTIMEZONE
BEGIN:VEVENT
DTSTART;TZID=America/New_York:20221031T180000
DTEND;TZID=America/New_York:20221031T210000
DTSTAMP:20260419T120625
CREATED:20220724T171512Z
LAST-MODIFIED:20221031T142215Z
UID:5868-1667239200-1667250000@wilmingtonpark.org
SUMMARY:2022 Trick or Treating in WP
DESCRIPTION:This is the night to dress up and trick or treat around the neighborhood. Look for a map of doors to knock on for tricks or  treats. Sign up on google forms to be added to the candy map. \nsign up here: https://forms.gle/7Rqim7jSxdziBw8K9 \n 
URL:https://wilmingtonpark.org/event/2022-trick-or-treating-in-wp/
LOCATION:Wilmington Park
ATTACH;FMTTYPE=image/jpeg:https://wilmingtonpark.org/wp-content/uploads/2022/02/E768FCE0-BD11-4201-A604-DD23464E2BBE.jpeg
END:VEVENT
END:VCALENDAR