BEGIN:VCALENDAR
VERSION:2.0
PRODID:-//Wilmington Park Homeowners Association - ECPv6.15.20//NONSGML v1.0//EN
CALSCALE:GREGORIAN
METHOD:PUBLISH
X-ORIGINAL-URL:https://wilmingtonpark.org
X-WR-CALDESC:Events for Wilmington Park Homeowners Association
REFRESH-INTERVAL;VALUE=DURATION:PT1H
X-Robots-Tag:noindex
X-PUBLISHED-TTL:PT1H
BEGIN:VTIMEZONE
TZID:America/New_York
BEGIN:DAYLIGHT
TZOFFSETFROM:-0500
TZOFFSETTO:-0400
TZNAME:EDT
DTSTART:20210314T070000
END:DAYLIGHT
BEGIN:STANDARD
TZOFFSETFROM:-0400
TZOFFSETTO:-0500
TZNAME:EST
DTSTART:20211107T060000
END:STANDARD
BEGIN:DAYLIGHT
TZOFFSETFROM:-0500
TZOFFSETTO:-0400
TZNAME:EDT
DTSTART:20220313T070000
END:DAYLIGHT
BEGIN:STANDARD
TZOFFSETFROM:-0400
TZOFFSETTO:-0500
TZNAME:EST
DTSTART:20221106T060000
END:STANDARD
BEGIN:DAYLIGHT
TZOFFSETFROM:-0500
TZOFFSETTO:-0400
TZNAME:EDT
DTSTART:20230312T070000
END:DAYLIGHT
BEGIN:STANDARD
TZOFFSETFROM:-0400
TZOFFSETTO:-0500
TZNAME:EST
DTSTART:20231105T060000
END:STANDARD
END:VTIMEZONE
BEGIN:VEVENT
DTSTART;TZID=America/New_York:20221112T113000
DTEND;TZID=America/New_York:20221112T130000
DTSTAMP:20260419T120723
CREATED:20220214T203024Z
LAST-MODIFIED:20220415T150559Z
UID:1001-1668252600-1668258000@wilmingtonpark.org
SUMMARY:2022 Dock Social
DESCRIPTION:  \nThis is a Free event for all WP Residents that are current on dues. 1130AM- 1PM at the Dock.
URL:https://wilmingtonpark.org/event/dock-social-2022/
LOCATION:Wilmington Park Dock
ATTACH;FMTTYPE=image/jpeg:https://wilmingtonpark.org/wp-content/uploads/2022/02/Dock-Social.jpg
END:VEVENT
END:VCALENDAR