BEGIN:VCALENDAR
VERSION:2.0
PRODID:-//Wilmington Park Homeowners Association - ECPv6.15.20//NONSGML v1.0//EN
CALSCALE:GREGORIAN
METHOD:PUBLISH
X-ORIGINAL-URL:https://wilmingtonpark.org
X-WR-CALDESC:Events for Wilmington Park Homeowners Association
REFRESH-INTERVAL;VALUE=DURATION:PT1H
X-Robots-Tag:noindex
X-PUBLISHED-TTL:PT1H
BEGIN:VTIMEZONE
TZID:America/New_York
BEGIN:DAYLIGHT
TZOFFSETFROM:-0500
TZOFFSETTO:-0400
TZNAME:EDT
DTSTART:20220313T070000
END:DAYLIGHT
BEGIN:STANDARD
TZOFFSETFROM:-0400
TZOFFSETTO:-0500
TZNAME:EST
DTSTART:20221106T060000
END:STANDARD
BEGIN:DAYLIGHT
TZOFFSETFROM:-0500
TZOFFSETTO:-0400
TZNAME:EDT
DTSTART:20230312T070000
END:DAYLIGHT
BEGIN:STANDARD
TZOFFSETFROM:-0400
TZOFFSETTO:-0500
TZNAME:EST
DTSTART:20231105T060000
END:STANDARD
BEGIN:DAYLIGHT
TZOFFSETFROM:-0500
TZOFFSETTO:-0400
TZNAME:EDT
DTSTART:20240310T070000
END:DAYLIGHT
BEGIN:STANDARD
TZOFFSETFROM:-0400
TZOFFSETTO:-0500
TZNAME:EST
DTSTART:20241103T060000
END:STANDARD
END:VTIMEZONE
BEGIN:VEVENT
DTSTART;TZID=America/New_York:20230404T190000
DTEND;TZID=America/New_York:20230404T210000
DTSTAMP:20260421T143600
CREATED:20230218T141928Z
LAST-MODIFIED:20230304T183037Z
UID:8792-1680634800-1680642000@wilmingtonpark.org
SUMMARY:WPHA board meeting 4/4/2023 @ 7pm
DESCRIPTION:Date Change: We are moving the meetings back to the first Tuesday of every month. \nThis meeting is for board members and management. All Residents are always welcome. If you wish to join as a resident- non board member\, please submit a ticket on our website so that we can update you on if we are meeting in person (normally at Savannah Country Club) or on Zoom.
URL:https://wilmingtonpark.org/event/wpha-board-meeting-4-6-2023-7pm/
LOCATION:Savannah Country Club\, 501 Wilmington Island Rd\, Savannah\, GA\, 31410\, United States
END:VEVENT
END:VCALENDAR