BEGIN:VCALENDAR
VERSION:2.0
PRODID:-//Wilmington Park Homeowners Association - ECPv6.15.20//NONSGML v1.0//EN
CALSCALE:GREGORIAN
METHOD:PUBLISH
X-WR-CALNAME:Wilmington Park Homeowners Association
X-ORIGINAL-URL:https://wilmingtonpark.org
X-WR-CALDESC:Events for Wilmington Park Homeowners Association
REFRESH-INTERVAL;VALUE=DURATION:PT1H
X-Robots-Tag:noindex
X-PUBLISHED-TTL:PT1H
BEGIN:VTIMEZONE
TZID:UTC
BEGIN:STANDARD
TZOFFSETFROM:+0000
TZOFFSETTO:+0000
TZNAME:UTC
DTSTART:20210101T000000
END:STANDARD
END:VTIMEZONE
BEGIN:VEVENT
DTSTART;TZID=UTC:20220222T190000
DTEND;TZID=UTC:20220222T210000
DTSTAMP:20260420T124729
CREATED:20220112T223659Z
LAST-MODIFIED:20220214T215915Z
UID:704-1645556400-1645563600@wilmingtonpark.org
SUMMARY:2022 Wilmington Park Annual Meeting
DESCRIPTION:
URL:https://wilmingtonpark.org/event/wilmington-park-annual-meeting/
LOCATION:Savannah Country Club\, 501 Wilmington Island Rd\, Savannah\, GA\, 31410\, United States
ATTACH;FMTTYPE=image/jpeg:https://wilmingtonpark.org/wp-content/uploads/2022/01/FrontPageSlider.jpg
END:VEVENT
END:VCALENDAR